BEGIN:VCALENDAR
VERSION:2.0
PRODID:-//Centro de Creación Escénica Carlos Álvarez-Nóvoa - ECPv4.7.4//NONSGML v1.0//EN
CALSCALE:GREGORIAN
METHOD:PUBLISH
X-WR-CALNAME:Centro de Creación Escénica Carlos Álvarez-Nóvoa
X-ORIGINAL-URL:http://centrocarlosalvareznovoa.org
X-WR-CALDESC:Eventos para Centro de Creación Escénica Carlos Álvarez-Nóvoa
BEGIN:VEVENT
DTSTART;TZID=UTC+0:20210101T080000
DTEND;TZID=UTC+0:20210131T170000
DTSTAMP:20260425T024114
CREATED:20201226T155918Z
LAST-MODIFIED:20201226T155918Z
UID:498-1609488000-1612112400@centrocarlosalvareznovoa.org
SUMMARY:EXPOSICION DE VIVIANAPINTA
DESCRIPTION: \nRetomamos las pinturas de Viviana\, que por la Pandemia  no han sido vistas por la gente que quiere ser participe de esta artista. \nOs esperamos \n \n
URL:http://centrocarlosalvareznovoa.org/event/exposicion-de-vivianapinta/
END:VEVENT
END:VCALENDAR