BEGIN:VCALENDAR
VERSION:2.0
PRODID:-//Centro de Creación Escénica Carlos Álvarez-Nóvoa - ECPv4.7.4//NONSGML v1.0//EN
CALSCALE:GREGORIAN
METHOD:PUBLISH
X-WR-CALNAME:Centro de Creación Escénica Carlos Álvarez-Nóvoa
X-ORIGINAL-URL:http://centrocarlosalvareznovoa.org
X-WR-CALDESC:Eventos para Centro de Creación Escénica Carlos Álvarez-Nóvoa
BEGIN:VEVENT
DTSTART;TZID=UTC+0:20220213T180000
DTEND;TZID=UTC+0:20220430T200000
DTSTAMP:20260423T002556
CREATED:20220213T182836Z
LAST-MODIFIED:20220213T182836Z
UID:645-1644775200-1651348800@centrocarlosalvareznovoa.org
SUMMARY:EXPOSICIÓN  AMAZONAS de Laura Gbécarez"LAURA
DESCRIPTION: \nL \nSoy Licenciada en Bella Artes por la UPV/EHU en el año 2003 y Técnico en \nSerigrafía Artística por la Escuela de Arte y Superior de CR de León en 2021. \nActualmente me dedico a mi gran pasión\, la ilustración y el trabajo con niñ@s \na través de Talleres de Arte\, investigando en las posibilidades creativas propias de los \nmás peques\, sin ataduras ni «cuadrículas» que puedan encorsetar su imaginación\, \nbase del dibujo y la expresión gráfica del niñ@ de 3 a 12 años. \nHe sido profesora de Educación Plástica y Visual en el Grado de Educación \nPrimaria de la Facultad de Educación de la Universidad de León durante el curso \n2020-21. He colaborado desde el 2016 con el DEAC MUSAC en todos sus programas \npara niñxs. También he programado para la Fundación Cerezales Antonino y Cinia\, \nTalleres de ilustración y expresión artística para niñxs y personas con discapacidad \nprofunda de ASPRONA. Todas ellas de León. \nOtras entidades con las que he colaborado son: CEIP San Isidoro\, Grupo de \nAltas Capacidades del Colegio Peñacorada de León\, ASPACE\, Fundación Juan \nSoñador\, Bibliotecas Municipales de León\, Festival Mundo Ético\, Festival Recuore\, \nAyuntamiento de Villamanín\, CRA de Babia y Pola de Gordón\, Carmelitas y CEIP \nGonzález de Lama en León\, entre otros. \nEstoy en continua formación en temas de pedagogías activas\, Orientación \nEducativa\, abordaje de las Altas Capacidades\, trastornos del aprendizaje y afectivos\, \nnecesidades especiales\, mediación y facilitación grupal\, expresión artística\, y \ncreatividad. Practico hatha yoga desde el año 2006. \n
URL:http://centrocarlosalvareznovoa.org/event/exposicion-amazonas-de-laura-gbecarezlaura/
END:VEVENT
BEGIN:VEVENT
DTSTART;TZID=UTC+0:20220422T193000
DTEND;TZID=UTC+0:20220422T210000
DTSTAMP:20260423T002556
CREATED:20220213T190449Z
LAST-MODIFIED:20220213T190449Z
UID:683-1650655800-1650661200@centrocarlosalvareznovoa.org
SUMMARY:PRESENTACION DE LIBRO "
DESCRIPTION: \nRosa Marina González-Quevedo Valhuerdi \n(Matanzas\, Cuba\, 1962) \nLicenciada en Filosofía (Universidad de La Habana\, 1984) y en Lengua y Literatura Románica y Latinoamericana (UniversitàdegliStudi di NapoliL’Orientale\, 2008). Narradora\, poeta y ensayista. Publicó en Cuba Antología del positivismo en México (Universidad de La Habana\, 1992) y Teilhard y Lezama: teología poética (Ediciones Vivarium\, 1996). Autora de la novelasLa enana (Ediciones Camelot\, 2019) y Amanda (Letrame\, 2021)\, así como del poemario El ritmo del conjuro (Editorial Fleming\, 2020). Coautora del libro de relatos De lunas\, mujeres y otras historias (Mariposa Ediciones\, 2020). Otros de sus ensayos\, relatos y poemas aparecen publicados en su blog Cuenta conmigo (www.reginaenvenus.blogspot.com.es) y en revistas internacionales y diferentes antologías editadas en España. Colabora como autora en la revista digital Masticadores de Letras siendo editora de MMisterio\, uno de sus blogs temáticos. Afincada en León desde 2012\, participa activamente en la vida cultural de dicha ciudad. \n \n
URL:http://centrocarlosalvareznovoa.org/event/presentacion-de-libro/
END:VEVENT
END:VCALENDAR